BEGIN:VCALENDAR
VERSION:2.0
PRODID:Spatie calendar-links
BEGIN:VEVENT
UID:8e8558851f08b4634ac7ea2a48af9397
SUMMARY:Unterstützung von Trainees mit Schwierigkeiten
DTSTAMP:20240925T070000Z
DTSTART:20240925T070000Z
DTEND:20240925T143000Z
DESCRIPTION:\n\nhttps://cbme.siwf.ch/workshops/unterstuetzung-von-trainees-scuol-240924\n
LOCATION:Center da sanda Engiadina Bassa\, Via da l'Ospidal 280\, 7550 Scuol
END:VEVENT
END:VCALENDAR