BEGIN:VCALENDAR
VERSION:2.0
PRODID:Spatie calendar-links
BEGIN:VEVENT
UID:6eb9e3f8a651a3cdb2c9aa21130933b8
SUMMARY:Supporting the underperforming trainee
DTSTAMP:20241113T080000Z
DTSTART:20241113T080000Z
DTEND:20241113T153000Z
DESCRIPTION:\n\nhttps://cbme.siwf.ch/workshops/underperforming-traineee-online-241113\n
END:VEVENT
END:VCALENDAR