BEGIN:VCALENDAR
VERSION:2.0
PRODID:Spatie calendar-links
BEGIN:VEVENT
UID:dd4b87f34a86681eb318401916dc840d
SUMMARY:Unterstützung von Trainees mit Schwierigkeiten
DTSTAMP:20261105T080000Z
DTSTART:20261105T080000Z
DTEND:20261105T153000Z
DESCRIPTION:\n\nhttps://cbme.siwf.ch/workshops/trainees-winterthur-261105\n
LOCATION:Kantonsspital Winterthur\, Brauerstrasse 15\, 8400 Winterthur
END:VEVENT
END:VCALENDAR