BEGIN:VCALENDAR
VERSION:2.0
PRODID:Spatie calendar-links
BEGIN:VEVENT
UID:1ed104ef4ba56d81b5270c07ab300dfa
SUMMARY:Unterstützung von Trainees mit Schwierigkeiten
DTSTAMP:20260311T080000Z
DTSTART:20260311T080000Z
DTEND:20260311T153000Z
DESCRIPTION:\n\nhttps://cbme.siwf.ch/workshops/trainees-winterthur-260311\n
LOCATION:Kantonsspital Winterthur\, Brauerstrasse 15\, 8400 Winterthur
END:VEVENT
END:VCALENDAR