BEGIN:VCALENDAR
VERSION:2.0
PRODID:Spatie calendar-links
BEGIN:VEVENT
UID:e32abe9d73e479e76e584de9dd913a2e
SUMMARY:Unterstützung von Trainees mit Schwierigkeiten
DTSTAMP:20251106T080000Z
DTSTART:20251106T080000Z
DTEND:20251106T153000Z
DESCRIPTION:\n\nhttps://cbme.siwf.ch/workshops/trainees-winterthur-250611\n
LOCATION:Kantonsspital Winterthur\, Brauerstrasse 15\, 8400 Winterthur
END:VEVENT
END:VCALENDAR