BEGIN:VCALENDAR
VERSION:2.0
PRODID:Spatie calendar-links
BEGIN:VEVENT
UID:37cd2bc8ff87cfbafb5729c6cd454475
SUMMARY:Unterstützung von Trainees mit Schwierigkeiten
DTSTAMP:20250312T080000Z
DTSTART:20250312T080000Z
DTEND:20250312T153000Z
DESCRIPTION:\n\nhttps://cbme.siwf.ch/workshops/trainees-winterthur-250312\n
LOCATION:Kantonsspital Winterthur\, Brauerstrasse 15\, 8400 Winterthur
END:VEVENT
END:VCALENDAR