BEGIN:VCALENDAR
VERSION:2.0
PRODID:Spatie calendar-links
BEGIN:VEVENT
UID:a1e928cb1e2947e136a85c26cbd1cb36
SUMMARY:Unterstützung von Trainees mit Schwierigkeiten
DTSTAMP:20260625T070000Z
DTSTART:20260625T070000Z
DTEND:20260625T143000Z
DESCRIPTION:\n\nhttps://cbme.siwf.ch/workshops/trainees-luzern-260625\n
LOCATION:Luzerner Kantonsspital\, Spitalstrasse\, 6000 Luzern
END:VEVENT
END:VCALENDAR