BEGIN:VCALENDAR
VERSION:2.0
PRODID:Spatie calendar-links
BEGIN:VEVENT
UID:d3bbbda672c1fab25b3b1b45b11a70ea
SUMMARY:Unterstützung von Trainees mit Schwierigkeiten
DTSTAMP:20250625T070000Z
DTSTART:20250625T070000Z
DTEND:20250625T143000Z
DESCRIPTION:\n\nhttps://cbme.siwf.ch/workshops/trainees-luzern-250625\n
LOCATION:Luzerner Kantonsspital\, Spitalstrasse\, 6000 Luzern
END:VEVENT
END:VCALENDAR