BEGIN:VCALENDAR
VERSION:2.0
PRODID:Spatie calendar-links
BEGIN:VEVENT
UID:baf5fb13d4361c869ae27c0d57386f24
SUMMARY:Soutien de l’apprenant·e en difficulté
DTSTAMP:20251120T080000Z
DTSTART:20251120T080000Z
DTEND:20251120T153000Z
DESCRIPTION:\n\nhttps://cbme.siwf.ch/workshops/trainees-fribourg-251120\n
LOCATION:HFR Fribourg – Hôpital cantonal\, Chem. des Pensionnats 2\, 1752 Villars-sur-Glâne
END:VEVENT
END:VCALENDAR