BEGIN:VCALENDAR
VERSION:2.0
PRODID:Spatie calendar-links
BEGIN:VEVENT
UID:8b3caff9598fd040d0ddb44a5bb7bb1b
SUMMARY:Unterstützung von Trainees mit Schwierigkeiten
DTSTAMP:20260902T070000Z
DTSTART:20260902T070000Z
DTEND:20260902T143000Z
DESCRIPTION:\n\nhttps://cbme.siwf.ch/workshops/trainees-bern-260902\n
LOCATION:Inselspital Bern\, Freiburgstrasse 20\, 3010 Bern
END:VEVENT
END:VCALENDAR