BEGIN:VCALENDAR
VERSION:2.0
PRODID:Spatie calendar-links
BEGIN:VEVENT
UID:4d921de9fad5a7a549f3834a37a4dafb
SUMMARY:Unterstützung von Trainees mit Schwierigkeiten
DTSTAMP:20260325T080000Z
DTSTART:20260325T080000Z
DTEND:20260325T153000Z
DESCRIPTION:\n\nhttps://cbme.siwf.ch/workshops/trainees-basel-260325\n
LOCATION:Universitätsspital Basel\, Petersgraben 4\, 4031 Basel
END:VEVENT
END:VCALENDAR