BEGIN:VCALENDAR
VERSION:2.0
PRODID:Spatie calendar-links
BEGIN:VEVENT
UID:573a8a60534e0bcba68441c9710bd698
SUMMARY:Unterstützung von Trainees mit Schwierigkeiten
DTSTAMP:20250326T080000Z
DTSTART:20250326T080000Z
DTEND:20250326T153000Z
DESCRIPTION:\n\nhttps://cbme.siwf.ch/workshops/trainees-basel-250326\n
LOCATION:Universitätsspital Basel\, Petersgraben 4\, 4031 Basel
END:VEVENT
END:VCALENDAR