BEGIN:VCALENDAR
VERSION:2.0
PRODID:Spatie calendar-links
BEGIN:VEVENT
UID:0fd560c16b1e5d20b53cf605b3e579e0
SUMMARY:Swiss Medical Education Summer School 2024
DTSTAMP:20240820T163000Z
DTSTART:20240820T163000Z
DTEND:20240823T131500Z
DESCRIPTION:\n\nhttps://cbme.siwf.ch/workshops/swiss-medical-education-summer-school-2024\n
END:VEVENT
END:VCALENDAR