BEGIN:VCALENDAR
VERSION:2.0
PRODID:Spatie calendar-links
BEGIN:VEVENT
UID:4f653cc3866432bdc7f96c1430ecb2ba
SUMMARY:Lehren im klinischen Alltag
DTSTAMP:20261102T080000Z
DTSTART:20261102T080000Z
DTEND:20261102T153000Z
DESCRIPTION:\n\nhttps://cbme.siwf.ch/workshops/lehren-winterthur-261102\n
LOCATION:Kantonsspital Winterthur\, Brauerstrasse 15\, 8400 Winterthur
END:VEVENT
END:VCALENDAR