BEGIN:VCALENDAR
VERSION:2.0
PRODID:Spatie calendar-links
BEGIN:VEVENT
UID:b903c35568929b02a5e5b548d8d3c8cd
SUMMARY:Lehren im klinischen Alltag
DTSTAMP:20260309T080000Z
DTSTART:20260309T080000Z
DTEND:20260309T153000Z
DESCRIPTION:\n\nhttps://cbme.siwf.ch/workshops/lehren-winterthur-260309\n
LOCATION:Kantonsspital Winterthur\, Brauerstrasse 15\, 8400 Winterthur
END:VEVENT
END:VCALENDAR