BEGIN:VCALENDAR
VERSION:2.0
PRODID:Spatie calendar-links
BEGIN:VEVENT
UID:bb17851baa555f2ca2d140db691d6aeb
SUMMARY:Lehren im klinischen Alltag
DTSTAMP:20250310T080000Z
DTSTART:20250310T080000Z
DTEND:20250310T153000Z
DESCRIPTION:\n\nhttps://cbme.siwf.ch/workshops/lehren-winterthur-250310\n
LOCATION:Kantonsspital Winterthur\, Brauerstrasse 15\, 8400 Winterthur
END:VEVENT
END:VCALENDAR