BEGIN:VCALENDAR
VERSION:2.0
PRODID:Spatie calendar-links
BEGIN:VEVENT
UID:6ec52f9338018bd2498698fbea4e15fd
SUMMARY:Lehren im klinischen Alltag
DTSTAMP:20241107T080000Z
DTSTART:20241107T080000Z
DTEND:20241107T153000Z
DESCRIPTION:\n\nhttps://cbme.siwf.ch/workshops/lehren-winterthur-241107\n
LOCATION:Kantonsspital Winterthur\, Brauerstrasse 15\, 8400 Winterthur
END:VEVENT
END:VCALENDAR