BEGIN:VCALENDAR
VERSION:2.0
PRODID:Spatie calendar-links
BEGIN:VEVENT
UID:a5ebed25eb332dedc79ee67f802d2e22
SUMMARY:Lehren im klinischen Alltag
DTSTAMP:20260622T070000Z
DTSTART:20260622T070000Z
DTEND:20260622T143000Z
DESCRIPTION:\n\nhttps://cbme.siwf.ch/workshops/lehren-luzern-260622\n
LOCATION:Luzerner Kantonsspital\, Spitalstrasse\, 6000 Luzern
END:VEVENT
END:VCALENDAR