BEGIN:VCALENDAR
VERSION:2.0
PRODID:Spatie calendar-links
BEGIN:VEVENT
UID:9fe343d74ee4d84dcf01952f85cf5310
SUMMARY:Lehren im klinischen Alltag
DTSTAMP:20250623T070000Z
DTSTART:20250623T070000Z
DTEND:20250623T143000Z
DESCRIPTION:\n\nhttps://cbme.siwf.ch/workshops/lehren-luzern-250623\n
LOCATION:Luzerner Kantonsspital\, Spitalstrasse\, 6000 Luzern
END:VEVENT
END:VCALENDAR