BEGIN:VCALENDAR
VERSION:2.0
PRODID:Spatie calendar-links
BEGIN:VEVENT
UID:a88d753f60d208da9d0355b10dfde3da
SUMMARY:Lehren im klinischen Alltag
DTSTAMP:20240610T070000Z
DTSTART:20240610T070000Z
DTEND:20240610T143000Z
DESCRIPTION:\n\nhttps://cbme.siwf.ch/workshops/lehren-luzern-240610\n
LOCATION:Luzerner Kantonsspital\, Spitalstrasse\, 6000 Luzern
END:VEVENT
END:VCALENDAR