BEGIN:VCALENDAR
VERSION:2.0
PRODID:Spatie calendar-links
BEGIN:VEVENT
UID:3f18c61e11acd4618f4f1bae91fe08de
SUMMARY:Lehren im klinischen Alltag
DTSTAMP:20251104T080000Z
DTSTART:20251104T080000Z
DTEND:20251104T153000Z
DESCRIPTION:\n\nhttps://cbme.siwf.ch/workshops/lehren-im-klinischen-alltag-winterthur-251104\n
LOCATION:Kantonsspital Winterthur\, Brauerstrasse 15\, 8400 Winterthur
END:VEVENT
END:VCALENDAR