BEGIN:VCALENDAR
VERSION:2.0
PRODID:Spatie calendar-links
BEGIN:VEVENT
UID:d64d399f739109f6e967c4ff71d3ee90
SUMMARY:Lehren im klinischen Alltag
DTSTAMP:20240923T070000Z
DTSTART:20240923T070000Z
DTEND:20240923T143000Z
DESCRIPTION:\n\nhttps://cbme.siwf.ch/workshops/lehren-im-klinischen-alltag-scuol-240923\n
LOCATION:Center da sanda Engiadina Bassa\, Via da l'Ospidal 280\, 7550 Scuol
END:VEVENT
END:VCALENDAR