BEGIN:VCALENDAR
VERSION:2.0
PRODID:Spatie calendar-links
BEGIN:VEVENT
UID:3308f351b2cce4fa8ed4a2aaf948e4dd
SUMMARY:Clinical Teaching
DTSTAMP:20260831T070000Z
DTSTART:20260831T070000Z
DTEND:20260831T143000Z
DESCRIPTION:\n\nhttps://cbme.siwf.ch/workshops/lehren-bern-260831\n
LOCATION:Inselspital Bern\, Freiburgstrasse 20\, 3010 Bern
END:VEVENT
END:VCALENDAR