BEGIN:VCALENDAR
VERSION:2.0
PRODID:Spatie calendar-links
BEGIN:VEVENT
UID:eb6b9b885f02169426402833b9afb0b2
SUMMARY:Lehren im klinischen Alltag
DTSTAMP:20260323T080000Z
DTSTART:20260323T080000Z
DTEND:20260323T153000Z
DESCRIPTION:\n\nhttps://cbme.siwf.ch/workshops/lehren-basel-260323\n
LOCATION:Universitätsspital Basel\, Petersgraben 4\, 4031 Basel
END:VEVENT
END:VCALENDAR