BEGIN:VCALENDAR
VERSION:2.0
PRODID:Spatie calendar-links
BEGIN:VEVENT
UID:5bff78573c95dd5b18f9acb6e12b8e79
SUMMARY:Führung & Teamwork (Basic)
DTSTAMP:20250313T080000Z
DTSTART:20250313T080000Z
DTEND:20250313T153000Z
DESCRIPTION:\n\nhttps://cbme.siwf.ch/workshops/fuehrung-undt-teamwork-winterthur-250313\n
LOCATION:Kantonsspital Winterthur\, Brauerstrasse 15\, 8400 Winterthur
END:VEVENT
END:VCALENDAR