BEGIN:VCALENDAR
VERSION:2.0
PRODID:Spatie calendar-links
BEGIN:VEVENT
UID:bac5ffdb97ef4a5fb68fd8328c876e5f
SUMMARY:Führung & Teamwork (Basic)
DTSTAMP:20251105T080000Z
DTSTART:20251105T080000Z
DTEND:20251105T153000Z
DESCRIPTION:\n\nhttps://cbme.siwf.ch/workshops/fuehrung-und-teamwork-winterthur-251105\n
LOCATION:Kantonsspital Winterthur\, Brauerstrasse 15\, 8400 Winterthur
END:VEVENT
END:VCALENDAR