BEGIN:VCALENDAR
VERSION:2.0
PRODID:Spatie calendar-links
BEGIN:VEVENT
UID:f15e2a704f1e0f443115ff58231cc73c
SUMMARY:Führung & Teamwork
DTSTAMP:20261104T080000Z
DTSTART:20261104T080000Z
DTEND:20261104T153000Z
DESCRIPTION:\n\nhttps://cbme.siwf.ch/workshops/fuehrung-teamwork-winterthur-261104\n
LOCATION:Kantonsspital Winterthur\, Brauerstrasse 15\, 8400 Winterthur
END:VEVENT
END:VCALENDAR