BEGIN:VCALENDAR
VERSION:2.0
PRODID:Spatie calendar-links
BEGIN:VEVENT
UID:debdba9c17e497bdf986f260d6006c82
SUMMARY:Führung & Teamwork
DTSTAMP:20260312T080000Z
DTSTART:20260312T080000Z
DTEND:20260312T153000Z
DESCRIPTION:\n\nhttps://cbme.siwf.ch/workshops/fuehrung-teamwork-winterthur-260312\n
LOCATION:Kantonsspital Winterthur\, Brauerstrasse 15\, 8400 Winterthur
END:VEVENT
END:VCALENDAR