BEGIN:VCALENDAR
VERSION:2.0
PRODID:Spatie calendar-links
BEGIN:VEVENT
UID:39e6f56be250f98ca38d4c5ddfae5bb1
SUMMARY:Führung & Teamwork
DTSTAMP:20240311T080000Z
DTSTART:20240311T080000Z
DTEND:20240311T153000Z
DESCRIPTION:\n\nhttps://cbme.siwf.ch/workshops/fuehrung-teamwork-winterthur-240311\n
LOCATION:Kantonsspital Winterthur\, Brauerstrasse 15\, 8400 Winterthur
END:VEVENT
END:VCALENDAR