BEGIN:VCALENDAR
VERSION:2.0
PRODID:Spatie calendar-links
BEGIN:VEVENT
UID:8c05eafb3c2da5cc3bb53ef62eb34123
SUMMARY:Führung & Teamwork
DTSTAMP:20260626T070000Z
DTSTART:20260626T070000Z
DTEND:20260626T143000Z
DESCRIPTION:\n\nhttps://cbme.siwf.ch/workshops/fuehrung-teamwork-luzern-260626\n
LOCATION:Luzerner Kantonsspital\, Spitalstrasse\, 6000 Luzern
END:VEVENT
END:VCALENDAR