BEGIN:VCALENDAR
VERSION:2.0
PRODID:Spatie calendar-links
BEGIN:VEVENT
UID:7a6dcf8e5a18f75592ea14f6c5da556e
SUMMARY:Feedback efficace\, évaluations en milieu de travail et EPA
DTSTAMP:20251125T080000Z
DTSTART:20251125T080000Z
DTEND:20251125T153000Z
DESCRIPTION:\n\nhttps://cbme.siwf.ch/workshops/feedback-efficace-epa-neuchatel-251125\n
LOCATION:Hôpital Neuchâtel - Pourtalès\, Rue de la Maladière 45\, 2000 Neuchâtel
END:VEVENT
END:VCALENDAR