BEGIN:VCALENDAR
VERSION:2.0
PRODID:Spatie calendar-links
BEGIN:VEVENT
UID:a3fe79b15ecb92a77988f60178edfd15
SUMMARY:Feedback efficace\, évaluations en milieu de travail et EPA
DTSTAMP:20251119T080000Z
DTSTART:20251119T080000Z
DTEND:20251119T153000Z
DESCRIPTION:\n\nhttps://cbme.siwf.ch/workshops/feedback-efficace-epa-fribourg-251119\n
LOCATION:HFR Fribourg – Hôpital cantonal\, Chem. des Pensionnats 2\, 1752 Villars-sur-Glâne
END:VEVENT
END:VCALENDAR