BEGIN:VCALENDAR
VERSION:2.0
PRODID:Spatie calendar-links
BEGIN:VEVENT
UID:681ed0bd82e5b6c4e307cfdfbb270dd8
SUMMARY:Effektives Feedback und Arbeitsplatz‐basiertes Assessment
DTSTAMP:20260310T080000Z
DTSTART:20260310T080000Z
DTEND:20260310T153000Z
DESCRIPTION:\n\nhttps://cbme.siwf.ch/workshops/feedback-assessment-winterthur-260310\n
LOCATION:Kantonsspital Winterthur\, Brauerstrasse 15\, 8400 Winterthur
END:VEVENT
END:VCALENDAR