BEGIN:VCALENDAR
VERSION:2.0
PRODID:Spatie calendar-links
BEGIN:VEVENT
UID:c2c1766061626a7a4e10ef495cab7cf8
SUMMARY:Effektives Feedback und Arbeitsplatz‐basiertes Assessment
DTSTAMP:20251104T080000Z
DTSTART:20251104T080000Z
DTEND:20251104T153000Z
DESCRIPTION:\n\nhttps://cbme.siwf.ch/workshops/feedback-assessment-winterthur-251104\n
LOCATION:Kantonsspital Winterthur\, Brauerstrasse 15\, 8400 Winterthur
END:VEVENT
END:VCALENDAR