BEGIN:VCALENDAR
VERSION:2.0
PRODID:Spatie calendar-links
BEGIN:VEVENT
UID:690632715bd5ed299586a7fea9fc7f74
SUMMARY:Effektives Feedback und Arbeitsplatz‐basiertes Assessment
DTSTAMP:20250311T080000Z
DTSTART:20250311T080000Z
DTEND:20250311T153000Z
DESCRIPTION:\n\nhttps://cbme.siwf.ch/workshops/feedback-assessment-winterthur-250311\n
LOCATION:Kantonsspital Winterthur\, Brauerstrasse 15\, 8400 Winterthur
END:VEVENT
END:VCALENDAR