BEGIN:VCALENDAR
VERSION:2.0
PRODID:Spatie calendar-links
BEGIN:VEVENT
UID:813f58d60f96932fe3c6ed8bbe27b2fb
SUMMARY:Effektives Feedback und Arbeitsplatz‐basiertes Assessment
DTSTAMP:20241104T080000Z
DTSTART:20241104T080000Z
DTEND:20241104T153000Z
DESCRIPTION:\n\nhttps://cbme.siwf.ch/workshops/feedback-assessment-winterthur-241104\n
LOCATION:Kantonsspital Winterthur\, Brauerstrasse 15\, 8400 Winterthur
END:VEVENT
END:VCALENDAR