BEGIN:VCALENDAR
VERSION:2.0
PRODID:Spatie calendar-links
BEGIN:VEVENT
UID:ec4b33bacaa447471c15c741e90f85c4
SUMMARY:Feedback & Assessment
DTSTAMP:20240314T080000Z
DTSTART:20240314T080000Z
DTEND:20240314T153000Z
DESCRIPTION:\n\nhttps://cbme.siwf.ch/workshops/feedback-assessment-online-240314\n
END:VEVENT
END:VCALENDAR