BEGIN:VCALENDAR
VERSION:2.0
PRODID:Spatie calendar-links
BEGIN:VEVENT
UID:dd3e4cee5fc218fb3d12779f77959478
SUMMARY:Effektives Feedback und Arbeitsplatz‐basiertes Assessment
DTSTAMP:20260623T070000Z
DTSTART:20260623T070000Z
DTEND:20260623T143000Z
DESCRIPTION:\n\nhttps://cbme.siwf.ch/workshops/feedback-assessment-luzern-260623\n
LOCATION:Luzerner Kantonsspital\, Spitalstrasse\, 6000 Luzern
END:VEVENT
END:VCALENDAR