BEGIN:VCALENDAR
VERSION:2.0
PRODID:Spatie calendar-links
BEGIN:VEVENT
UID:642b5309c9fe26bfef40d986205710f7
SUMMARY:Effektives Feedback und Arbeitsplatz‐basiertes Assessment
DTSTAMP:20250624T070000Z
DTSTART:20250624T070000Z
DTEND:20250624T143000Z
DESCRIPTION:\n\nhttps://cbme.siwf.ch/workshops/feedback-assessment-luzern-250624\n
LOCATION:Luzerner Kantonsspital\, Spitalstrasse\, 6000 Luzern
END:VEVENT
END:VCALENDAR