BEGIN:VCALENDAR
VERSION:2.0
PRODID:Spatie calendar-links
BEGIN:VEVENT
UID:22e4a4a3efee2cd5701ae48ce82cfdde
SUMMARY:Feedback and Assessment
DTSTAMP:20260901T070000Z
DTSTART:20260901T070000Z
DTEND:20260901T143000Z
DESCRIPTION:\n\nhttps://cbme.siwf.ch/workshops/feedback-assessment-bern-260901\n
LOCATION:Inselspital Bern\, Freiburgstrasse 20\, 3010 Bern
END:VEVENT
END:VCALENDAR