BEGIN:VCALENDAR
VERSION:2.0
PRODID:Spatie calendar-links
BEGIN:VEVENT
UID:3f817e6fe02f0c3a3427d1e5747a4338
SUMMARY:Effektives Feedback und Arbeitsplatz‐basiertes Assessment
DTSTAMP:20260324T080000Z
DTSTART:20260324T080000Z
DTEND:20260324T153000Z
DESCRIPTION:\n\nhttps://cbme.siwf.ch/workshops/feedback-assessment-basel-260324\n
LOCATION:Universitätsspital Basel\, Petersgraben 4\, 4031 Basel
END:VEVENT
END:VCALENDAR