BEGIN:VCALENDAR
VERSION:2.0
PRODID:Spatie calendar-links
BEGIN:VEVENT
UID:10110fa830bc28c83c1c92867d2685a8
SUMMARY:Effektives Feedback und Arbeitsplatz‐basiertes Assessment
DTSTAMP:20250325T080000Z
DTSTART:20250325T080000Z
DTEND:20250325T153000Z
DESCRIPTION:\n\nhttps://cbme.siwf.ch/workshops/feedback-assessment-basel-250325\n
LOCATION:Universitätsspital Basel\, Petersgraben 4\, 4031 Basel
END:VEVENT
END:VCALENDAR