BEGIN:VCALENDAR
VERSION:2.0
PRODID:Spatie calendar-links
BEGIN:VEVENT
UID:a603610735ea566fada76e550d9e2126
SUMMARY:Enseignement en milieu clinique
DTSTAMP:20251124T080000Z
DTSTART:20251124T080000Z
DTEND:20251124T153000Z
DESCRIPTION:\n\nhttps://cbme.siwf.ch/workshops/enseignement-en-milieu-clinique-neuchatel-251124\n
LOCATION:Hôpital Neuchâtel - Pourtalès\, Rue de la Maladière 45\, 2000 Neuchâtel
END:VEVENT
END:VCALENDAR