BEGIN:VCALENDAR
VERSION:2.0
PRODID:Spatie calendar-links
BEGIN:VEVENT
UID:af22144e9b7a6c6ed5d852253972f059
SUMMARY:Enseignement en milieu clinique
DTSTAMP:20251118T080000Z
DTSTART:20251118T080000Z
DTEND:20251118T153000Z
DESCRIPTION:\n\nhttps://cbme.siwf.ch/workshops/enseignement-en-milieu-clinique-fribourg-251118\n
LOCATION:HFR Fribourg – Hôpital cantonal\, Chem. des Pensionnats 2\, 1752 Villars-sur-Glâne
END:VEVENT
END:VCALENDAR