BEGIN:VCALENDAR
VERSION:2.0
PRODID:Spatie calendar-links
BEGIN:VEVENT
UID:3eec67bdcb70219a76561b2b35538007
SUMMARY:Enseigner efficacement à des petits groupes et en auditoire
DTSTAMP:20251127T080000Z
DTSTART:20251127T080000Z
DTEND:20251127T153000Z
DESCRIPTION:\n\nhttps://cbme.siwf.ch/workshops/enseignement-efficacement-groupes-auditoire-neuchatel-251127\n
LOCATION:Hôpital Neuchâtel - Pourtalès\, Rue de la Maladière 45\, 2000 Neuchâtel
END:VEVENT
END:VCALENDAR