BEGIN:VCALENDAR
VERSION:2.0
PRODID:Spatie calendar-links
BEGIN:VEVENT
UID:31ed0f13ff3b8489c4713ac252ade2f6
SUMMARY:Enseigner efficacement à des petits groupes et en auditoire
DTSTAMP:20241128T080000Z
DTSTART:20241128T080000Z
DTEND:20241128T153000Z
DESCRIPTION:\n\nhttps://cbme.siwf.ch/workshops/enseignement-efficacement-groupes-auditoire-neuchatel-241128\n
LOCATION:Hôpital Neuchâtel - Pourtalès\, Rue de la Maladière 45\, 2000 Neuchâtel
END:VEVENT
END:VCALENDAR