BEGIN:VCALENDAR
VERSION:2.0
PRODID:Spatie calendar-links
BEGIN:VEVENT
UID:6eb5b83b6d93849cbf7302138e01ccca
SUMMARY:Effektives Feedback und Arbeitsplatz‐basiertes Assessment
DTSTAMP:20240315T080000Z
DTSTART:20240315T080000Z
DTEND:20240315T153000Z
DESCRIPTION:\n\nhttps://cbme.siwf.ch/workshops/effektives-feedback-winterthur-240312\n
LOCATION:Kantonsspital Winterthur\, Brauerstrasse 15\, 8400 Winterthur
END:VEVENT
END:VCALENDAR