BEGIN:VCALENDAR
VERSION:2.0
PRODID:Spatie calendar-links
BEGIN:VEVENT
UID:74627b2045cb407ef0c8529963c3760f
SUMMARY:Effektives Feedback und Arbeitsplatz‐basiertes Assessment
DTSTAMP:20240924T070000Z
DTSTART:20240924T070000Z
DTEND:20240924T143000Z
DESCRIPTION:\n\nhttps://cbme.siwf.ch/workshops/effektives-feedback-scuol-240924\n
LOCATION:Center da sanda Engiadina Bassa\, Via da l'Ospidal 280\, 7550 Scuol
END:VEVENT
END:VCALENDAR