BEGIN:VCALENDAR
VERSION:2.0
PRODID:Spatie calendar-links
BEGIN:VEVENT
UID:2b513739ffca2e37f1219ba94a185699
SUMMARY:Besser lehren\, besser lernen: Didaktik und Präsentationstechnik für Ärzt:innen
DTSTAMP:20250626T070000Z
DTSTART:20250626T070000Z
DTEND:20250626T143000Z
DESCRIPTION:\n\nhttps://cbme.siwf.ch/workshops/didaktik-und-praesentationstechnik-luzern-250626\n
LOCATION:Luzerner Kantonsspital\, Spitalstrasse\, 6000 Luzern
END:VEVENT
END:VCALENDAR