BEGIN:VCALENDAR
VERSION:2.0
PRODID:Spatie calendar-links
BEGIN:VEVENT
UID:59245f07895f684b94928870da3a8f32
SUMMARY:Clinical Teaching Skills Masterclass
DTSTAMP:20250701T070000Z
DTSTART:20250701T070000Z
DTEND:20250701T143000Z
DESCRIPTION:\n\nhttps://cbme.siwf.ch/workshops/clinical-teaching-feedback-lucerne-250701\n
LOCATION:Luzerner Kantonsspital\, Spitalstrasse\, 6000 Luzern
END:VEVENT
END:VCALENDAR